BEGIN:VCALENDAR
VERSION:2.0
PRODID:-//Energica Club NL - ECPv6.10.0//NONSGML v1.0//EN
CALSCALE:GREGORIAN
METHOD:PUBLISH
X-WR-CALNAME:Energica Club NL
X-ORIGINAL-URL:https://energicaclub.net
X-WR-CALDESC:Evenementen voor Energica Club NL
BEGIN:VTIMEZONE
TZID:Europe/Amsterdam
BEGIN:DAYLIGHT
TZOFFSETFROM:+0100
TZOFFSETTO:+0200
TZNAME:CEST
DTSTART:20220327T010000
END:DAYLIGHT
BEGIN:STANDARD
TZOFFSETFROM:+0200
TZOFFSETTO:+0100
TZNAME:CET
DTSTART:20221030T010000
END:STANDARD
END:VTIMEZONE
BEGIN:VEVENT
DTSTART;TZID=Europe/Amsterdam:20220407T080000
DTEND;TZID=Europe/Amsterdam:20220407T170000
DTSTAMP:20260423T000323
CREATED:20220223T151403Z
LAST-MODIFIED:20220505T104804Z
UID:5847-1649318400-1649350800@energicaclub.net
SUMMARY:VOLGEBOEKT - TT Assen - Licentieopleiding
DESCRIPTION:CRT MOTORRACE-LICENTIECURSUS\nCRT organiseert ook de CRT motorrace-licentiecursus voor het behalen van je IDC licentie. Na het goed afsluiten van deze cursus kun je jouw IDC jaar- of daglicentie aanvragen en races gaan rijden in de populaire International Dutch Championship competitie of bij de Ducati Club Races..\nDe CRT motorrace-licentiecursus bestaat uit 5 praktijksessies met daarin meerdere proefstarts plus een simulatie van een IDC race. Iedere praktijksessie wordt gevolgd door een theoriesessie. Een schriftelijk examen waarin de betekenis van de vlaggencodes gevraagd wordt maakt onderdeel uit van de cursus..\nDe cursus wordt begeleidt door CRT instructeurs op en naast de baan.\nDe eerste licentiecursus op vrijdag 8 april 2022 is volgeboekt\, CRT heeft daarom een tweede licentiecursus op donderdag 7 april ingepland. De eerste race in het International Dutch Championship 2022 staat op zaterdag 9 april op de kalender.\nKlik op deze link voor directe inschrijving: CRT motorrace-licentiecursus donderdag 7 april 2022\nEr zijn meerdere organisatoren van motorraces welke de CRT motorrace-licentiecursus erkennen voor deelname aan de door hen georganiseerde races.\nKlik voor meer info over de IDC races op deze link: IDC races
URL:https://energicaclub.net/event/vol-geboekt-tt-assen-licentieopleiding/
LOCATION:TT Assen\, De Haar 9\, Assen\, 9405TE\, Nederland
CATEGORIES:Circuit,Circuittraining,TT Assen
ATTACH;FMTTYPE=image/jpeg:https://energicaclub.net/wp-content/uploads/2022/02/21-AF2-5273-scaled.jpg
END:VEVENT
BEGIN:VEVENT
DTSTART;TZID=Europe/Amsterdam:20220408T160000
DTEND;TZID=Europe/Amsterdam:20220408T200000
DTSTAMP:20260423T000323
CREATED:20220213T204848Z
LAST-MODIFIED:20220505T104757Z
UID:5233-1649433600-1649448000@energicaclub.net
SUMMARY:Midland - Bochtentraining
DESCRIPTION:Midland Circuit Lelystad\nBeginnende motorrijder\nBen jij een beginnende motorrijder en wil je met meer zelfvertrouwen op de motor zitten? Dan ben je bij Motor Circuit Training aan het juiste adres. Ons team van gedreven instructeurs zal voor je klaarstaan met hands on tips om je techniek te verbeteren. \nErvaren motorrijder\nBen jij een ervaren motorrijder en lijkt het jou leuk om op een circuit te rijden? Ook dit kan bij Motor Circuit Training! Bij aanmelding wordt jou gevraagd je ervaringsniveau aan te geven\, zodat wij jou in de juiste groep kunnen plaatsen. Zo krijgt iedereen de tijd en ruimte om zijn of haar techniek (nog) verder te verbeteren en een leuke en leerzame dag te beleven. \nMidland Circuit Lelystad\nVrijdag 8 april 2022\nBegin: 16:00 uur\nEinde: 20:00 uur\nRijtijd: 5 x 10 min\nPrijs: €85\,00\n \nLet op: Alleen straatmotoren met kenteken en straatbanden tijdens deze training. \nDeze training rijden we het circuit linksom.\nBekijk ook het volledige programma met de voorwaarden\, procedures en het tijdschema.
URL:https://energicaclub.net/event/midland-bochtentraining/
LOCATION:Circuit Midland Lelystad\, Talingweg 89\, Lelystad\, 8218 NX\, Nederland
CATEGORIES:Bochtentraining,Midland Lelystad
ATTACH;FMTTYPE=image/jpeg:https://energicaclub.net/wp-content/uploads/2022/02/20200612_Midland_019-e1652119693862.jpg
ORGANIZER;CN="Motorcircuittraining":MAILTO:info@motorcircuittraining.nl
END:VEVENT
BEGIN:VEVENT
DTSTART;TZID=Europe/Amsterdam:20220425T080000
DTEND;TZID=Europe/Amsterdam:20220425T170000
DTSTAMP:20260423T000323
CREATED:20220217T154455Z
LAST-MODIFIED:20220505T111606Z
UID:5673-1650873600-1650906000@energicaclub.net
SUMMARY:VOLGEBOEKT Assen Pirelly Track Day training en vrij rijden
DESCRIPTION:Hij is er weer\, het leukste en voordeligste events van TT Assen van het jaar\, de Pirelli Superbike Track Day. \nMet in ieder geval 5 Energica rijders zijn we present. Wil je ook mee\, wees dan donderdag 17 februari 20:00 supersnel \, voordat het vol is. \nCRT heeft zijn pagina klaar staan\, publiek inschrijven opend om 20:00 \nOfficiele prijs nog onbekend\, maar traditie getrouw iets voordeliger dan andere trackdays en INCLUSIEF GRATIS LUNCH \nLET OP: ALLEEN VOOR MOTOREN UITGERUST MET PIRELLI BANDEN. \nEen kleine disclaimer die voor alle circuitdagen geldt; \n\nBoek geen dagen die hier niet op de clubsite staan. (Zonder safetymateriaal van de club\, laadinfra en aanmelding bij racecontrol mag je anders de baan niet op)\nRijd je één of twee keer mee op een circuitdag? Koop dat een aanvullend clubkaartje in webshop als bijdrage voor alle circuit materialen.\nRijd je vaker een circuitdag? Dat is het voordeliger om Plus of Pro lid te worden en op die manier bij te dragen aan de benodigde extra zaken specifiek voor het circuit.\n\n		\n						\n						\n					\n			\n						\n				\n							\n			\n		\n						\n				\n					\n		\n					\n		\n				\n						\n					\n			\n						\n				\n					Aanmelden voor een circuit event?				\n				\n				\n						\n					\n			\n						\n				\n							\n\n			\n						\n\n									\n						\n							Stap 1.						\n					\n				\n									\n						Circuit evenementen zijn alleen voor leden. Heb je een Plus of Pro lidmaatschap\, dan kun je jezelf direct inschrijven. Als basislid heb je een extra dagkaartje nodig uit de clubshop. Hiermee betaal je jouw bijdrage voor de extra materialen die de club aanschaft.					 \n				\n			\n			\n		\n						\n				\n					\n		\n				\n			\n						\n				\n							\n\n			\n						\n\n									\n						\n							Stap 2.						\n					\n				\n									\n						Ga via de link onder dit blok naar de website van de organisator van het specifieke evenement. Je schrijft je daar rechtstreeks in.					 \n				\n			\n			\n		\n						\n				\n					\n		\n				\n			\n						\n				\n							\n\n			\n						\n\n									\n						\n							Stap 3.						\n					\n				\n									\n						Vul het RSVP formuliertje onderaan deze pagina in. Dan houden we rekening met je komst en wordt je aangemeld bij Race Control.					 \n				\n			\n			\n		\n						\n				\n					\n		\n					\n		\n					\n		\n					\n		\n				\n						\n					\n			\n						\n				\n					Wat regelt de club tijdens circuit events voor haar leden?				\n				\n				\n						\n					\n			\n						\n				\n					Gebruik DC snelladers waar nodig  				\n				\n				\n				\n					Gebruik van AC laadtrailer waar nodig 				\n				\n				\n				\n					Goedgekeurd veiligheids protocol per circuit 				\n				\n				\n				\n					Afstemming racecontrol 				\n				\n				\n				\n					Specifieke veiligheids briefing voor elektrische rijders  				\n				\n					\n		\n				\n			\n						\n				\n					Additionele veiligheidsmiddelen op paddock en bij Marshals. 				\n				\n				\n				\n					Schaduwtenten bij meerdere deelnemers. 				\n				\n				\n				\n					Koffie en gezelligheid. 				\n				\n					\n		\n					\n		\n					\n		\n					\n		\n				\n		\n 
URL:https://energicaclub.net/event/assen-pirelli_day/
LOCATION:TT Assen\, De Haar 9\, Assen\, 9405TE\, Nederland
CATEGORIES:Circuit,Circuittraining,TT Assen,Vrij Rijden
END:VEVENT
BEGIN:VEVENT
DTSTART;TZID=Europe/Amsterdam:20220429T080000
DTEND;TZID=Europe/Amsterdam:20220429T170000
DTSTAMP:20260423T000323
CREATED:20220211T113959Z
LAST-MODIFIED:20220505T111613Z
UID:5022-1651219200-1651251600@energicaclub.net
SUMMARY:Assen training en vrij rijden
DESCRIPTION:Evenement wordt door Dannhoff georganiseerd over 3 dagen. Wij zijn er met de benodigde spullen op 29 en 30 april. \nKijk voor meer informatie en boeken op de site van Dannhoff. \n  \nEen kleine disclaimer die voor alle circuitdagen geldt; \n\nBoek geen dagen die hier niet op de clubsite staan. (Zonder safetymateriaal van de club\, laadinfra en aanmelding bij racecontrol mag je anders de baan niet op)\nRijd je één of twee keer mee op een circuitdag? Koop dat een aanvullend clubkaartje in webshop als bijdrage voor alle circuit materialen.\nRijd je vaker een circuitdag? Dat is het voordeliger om Plus of Pro lid te worden en op die manier bij te dragen aan de benodigde extra zaken specifiek voor het circuit.\n\n		\n						\n						\n					\n			\n						\n				\n							\n			\n		\n						\n				\n					\n		\n					\n		\n				\n						\n					\n			\n						\n				\n					Aanmelden voor een circuit event?				\n				\n				\n						\n					\n			\n						\n				\n							\n\n			\n						\n\n									\n						\n							Stap 1.						\n					\n				\n									\n						Circuit evenementen zijn alleen voor leden. Heb je een Plus of Pro lidmaatschap\, dan kun je jezelf direct inschrijven. Als basislid heb je een extra dagkaartje nodig uit de clubshop. Hiermee betaal je jouw bijdrage voor de extra materialen die de club aanschaft.					 \n				\n			\n			\n		\n						\n				\n					\n		\n				\n			\n						\n				\n							\n\n			\n						\n\n									\n						\n							Stap 2.						\n					\n				\n									\n						Ga via de link onder dit blok naar de website van de organisator van het specifieke evenement. Je schrijft je daar rechtstreeks in.					 \n				\n			\n			\n		\n						\n				\n					\n		\n				\n			\n						\n				\n							\n\n			\n						\n\n									\n						\n							Stap 3.						\n					\n				\n									\n						Vul het RSVP formuliertje onderaan deze pagina in. Dan houden we rekening met je komst en wordt je aangemeld bij Race Control.					 \n				\n			\n			\n		\n						\n				\n					\n		\n					\n		\n					\n		\n					\n		\n				\n						\n					\n			\n						\n				\n					Wat regelt de club tijdens circuit events voor haar leden?				\n				\n				\n						\n					\n			\n						\n				\n					Gebruik DC snelladers waar nodig  				\n				\n				\n				\n					Gebruik van AC laadtrailer waar nodig 				\n				\n				\n				\n					Goedgekeurd veiligheids protocol per circuit 				\n				\n				\n				\n					Afstemming racecontrol 				\n				\n				\n				\n					Specifieke veiligheids briefing voor elektrische rijders  				\n				\n					\n		\n				\n			\n						\n				\n					Additionele veiligheidsmiddelen op paddock en bij Marshals. 				\n				\n				\n				\n					Schaduwtenten bij meerdere deelnemers. 				\n				\n				\n				\n					Koffie en gezelligheid. 				\n				\n					\n		\n					\n		\n					\n		\n					\n		\n				\n		\n 
URL:https://energicaclub.net/event/assen-training-en-vrij-rijden/
LOCATION:TT Assen\, De Haar 9\, Assen\, 9405TE\, Nederland
CATEGORIES:Circuit,Circuittraining,TT Assen,Vrij Rijden
END:VEVENT
END:VCALENDAR